Name | Last modified | Size | Description | |
---|---|---|---|---|
Parent Directory | - | |||
buildsrc-out.txt | 14-Apr-2022 01:05 | 905 | ||
buildsrc-summary.dcf | 14-Apr-2022 01:05 | 444 | ||
checksrc-out.txt | 14-Apr-2022 01:05 | 6.7K | ||
checksrc-summary.dcf | 14-Apr-2022 01:05 | 460 | ||
install-out.txt | 14-Apr-2022 01:05 | 1.0K | ||
install-summary.dcf | 14-Apr-2022 01:05 | 277 | ||