Name | Last modified | Size | Description | |
---|---|---|---|---|
Parent Directory | - | |||
buildbin-out.txt | 14-Apr-2022 01:06 | 2.4K | ||
buildbin-summary.dcf | 14-Apr-2022 01:06 | 563 | ||
buildsrc-out.txt | 14-Apr-2022 01:06 | 925 | ||
buildsrc-summary.dcf | 14-Apr-2022 01:06 | 474 | ||
checksrc-out.txt | 14-Apr-2022 01:06 | 6.0K | ||
checksrc-summary.dcf | 14-Apr-2022 01:06 | 478 | ||
install-out.txt | 14-Apr-2022 01:06 | 3.2K | ||
install-summary.dcf | 14-Apr-2022 01:06 | 677 | ||