Name | Last modified | Size | Description | |
---|---|---|---|---|
Parent Directory | - | |||
checksrc-out.txt | 14-Apr-2022 01:08 | 7.6K | ||
buildbin-out.txt | 14-Apr-2022 01:08 | 4.8K | ||
install-out.txt | 14-Apr-2022 01:08 | 4.1K | ||
buildsrc-out.txt | 14-Apr-2022 01:08 | 897 | ||
buildbin-summary.dcf | 14-Apr-2022 01:08 | 512 | ||
checksrc-summary.dcf | 14-Apr-2022 01:08 | 438 | ||
buildsrc-summary.dcf | 14-Apr-2022 01:08 | 419 | ||
install-summary.dcf | 14-Apr-2022 01:08 | 263 | ||