Back to Multiple platform build/check report for BioC 3.14
ABCDEFG[H]IJKLMNOPQRSTUVWXYZ

This page was generated on 2021-10-22 12:03:38 -0400 (Fri, 22 Oct 2021).

All results for package h5vc

To the developers/maintainers of the h5vc package:
- Please allow up to 24 hours (and sometimes 48 hours) for your latest push to git@git.bioconductor.org:packages/h5vc.git to
reflect on this report. See How and When does the builder pull? When will my changes propagate? here for more information.
- Make sure to use the following settings in order to reproduce any error or warning you see on this page.

raw results

Package 846/2075HostnameOS / ArchINSTALLBUILDCHECKBUILD BIN
h5vc 2.27.2  (landing page)
Paul Theodor Pyl
Snapshot Date: 2021-10-21 14:50:08 -0400 (Thu, 21 Oct 2021)
git_url: https://git.bioconductor.org/packages/h5vc
git_branch: master
git_last_commit: 86dc507
git_last_commit_date: 2021-07-27 15:29:45 -0400 (Tue, 27 Jul 2021)
nebbiolo2Linux (Ubuntu 20.04.2 LTS) / x86_64  OK    OK    WARNINGS  UNNEEDED, same version is already published
riesling1Windows Server 2019 Standard / x64  OK    OK    WARNINGS    OK  UNNEEDED, same version is already published
merida1macOS 10.14.6 Mojave / x86_64  OK    OK    WARNINGS    NA