Index of /checkResults/3.14/bioc-LATEST/gwascat/raw-results

[ICO]NameLast modifiedSizeDescription

[DIR]Parent Directory  -  
[   ]info.dcf25-Nov-2021 05:06 273  
[DIR]machv2/25-Nov-2021 05:06 -  
[DIR]nebbiolo2/25-Nov-2021 05:05 -  
[DIR]tokay2/25-Nov-2021 05:05 -