Index of /checkResults/3.14/bioc-LATEST/gramm4R/raw-results/tokay2
Name
Last modified
Size
Description
Parent Directory
-
buildsrc-out.txt
14-Apr-2022 01:06
934
buildsrc-summary.dcf
14-Apr-2022 01:06
458
install-out.txt
14-Apr-2022 01:06
1.3K
install-summary.dcf
14-Apr-2022 01:06
636