Index of /checkResults/3.14/bioc-LATEST/gramm4R/raw-results/nebbiolo2
Name
Last modified
Size
Description
Parent Directory
-
buildsrc-out.txt
14-Apr-2022 01:05
896
buildsrc-summary.dcf
14-Apr-2022 01:05
331
install-out.txt
14-Apr-2022 01:05
647
install-summary.dcf
14-Apr-2022 01:05
260