Index of /checkResults/3.14/bioc-LATEST/gramm4R/raw-results/machv2
Name
Last modified
Size
Description
Parent Directory
-
buildsrc-out.txt
14-Apr-2022 01:08
887
buildsrc-summary.dcf
14-Apr-2022 01:08
341
install-out.txt
14-Apr-2022 01:08
678
install-summary.dcf
14-Apr-2022 01:08
270