Name | Last modified | Size | Description | |
---|---|---|---|---|
Parent Directory | - | |||
buildbin-out.txt | 15-Jan-2022 03:06 | 3.6K | ||
buildbin-summary.dcf | 15-Jan-2022 03:06 | 527 | ||
buildsrc-out.txt | 14-Apr-2022 01:06 | 1.9K | ||
buildsrc-summary.dcf | 14-Apr-2022 01:06 | 453 | ||
checksrc-out.txt | 15-Jan-2022 03:06 | 4.6K | ||
checksrc-summary.dcf | 15-Jan-2022 03:06 | 454 | ||
install-out.txt | 14-Apr-2022 01:06 | 2.2K | ||
install-summary.dcf | 14-Apr-2022 01:06 | 625 | ||