Name | Last modified | Size | Description | |
---|---|---|---|---|
Parent Directory | - | |||
checksrc-out.txt | 14-Apr-2022 01:06 | 4.3K | ||
install-out.txt | 14-Apr-2022 01:06 | 2.3K | ||
buildbin-out.txt | 14-Apr-2022 01:06 | 1.6K | ||
buildsrc-out.txt | 14-Apr-2022 01:06 | 849 | ||
install-summary.dcf | 14-Apr-2022 01:06 | 643 | ||
buildbin-summary.dcf | 14-Apr-2022 01:06 | 541 | ||
checksrc-summary.dcf | 14-Apr-2022 01:06 | 464 | ||
buildsrc-summary.dcf | 14-Apr-2022 01:06 | 461 | ||