Index of /checkResults/3.14/bioc-LATEST/genphen/raw-results/tokay2
Name
Last modified
Size
Description
Parent Directory
-
buildsrc-out.txt
14-Apr-2022 01:06
3.4K
buildsrc-summary.dcf
14-Apr-2022 01:06
375
install-out.txt
14-Apr-2022 01:06
2.5K
install-summary.dcf
14-Apr-2022 01:06
640