Name | Last modified | Size | Description | |
---|---|---|---|---|
Parent Directory | - | |||
buildbin-out.txt | 14-Apr-2022 01:06 | 1.9K | ||
buildbin-summary.dcf | 14-Apr-2022 01:06 | 602 | ||
buildsrc-out.txt | 14-Apr-2022 01:06 | 959 | ||
buildsrc-summary.dcf | 14-Apr-2022 01:06 | 501 | ||
checksrc-out.txt | 14-Apr-2022 01:06 | 9.0K | ||
checksrc-summary.dcf | 14-Apr-2022 01:06 | 508 | ||
install-out.txt | 14-Apr-2022 01:06 | 2.6K | ||
install-summary.dcf | 14-Apr-2022 01:06 | 733 | ||