Name | Last modified | Size | Description | |
---|---|---|---|---|
Parent Directory | - | |||
buildbin-summary.dcf | 14-Apr-2022 01:06 | 533 | ||
buildbin-out.txt | 14-Apr-2022 01:06 | 5.6K | ||
checksrc-summary.dcf | 14-Apr-2022 01:06 | 457 | ||
checksrc-out.txt | 14-Apr-2022 01:06 | 4.9K | ||
buildsrc-summary.dcf | 14-Apr-2022 01:06 | 454 | ||
buildsrc-out.txt | 14-Apr-2022 01:06 | 932 | ||
install-summary.dcf | 14-Apr-2022 01:06 | 631 | ||
install-out.txt | 14-Apr-2022 01:06 | 6.3K | ||