Back to Multiple platform build/check report for BioC 3.14
ABCDEF[G]HIJKLMNOPQRSTUVWXYZ

This page was generated on 2021-10-20 12:05:41 -0400 (Wed, 20 Oct 2021).

CHECK results for genefu on merida1

To the developers/maintainers of the genefu package:
- Please allow up to 24 hours (and sometimes 48 hours) for your latest push to git@git.bioconductor.org:packages/genefu.git to
reflect on this report. See How and When does the builder pull? When will my changes propagate? here for more information.
- Make sure to use the following settings in order to reproduce any error or warning you see on this page.

raw results

Package 719/2072HostnameOS / ArchINSTALLBUILDCHECKBUILD BIN
genefu 2.25.1  (landing page)
Benjamin Haibe-Kains
Snapshot Date: 2021-10-19 14:50:04 -0400 (Tue, 19 Oct 2021)
git_url: https://git.bioconductor.org/packages/genefu
git_branch: master
git_last_commit: 8fce049
git_last_commit_date: 2021-05-21 19:08:16 -0400 (Fri, 21 May 2021)
nebbiolo2Linux (Ubuntu 20.04.2 LTS) / x86_64  OK    OK    OK  UNNEEDED, same version is already published
riesling1Windows Server 2019 Standard / x64  OK    OK    OK    OK  UNNEEDED, same version is already published
merida1macOS 10.14.6 Mojave / x86_64  OK    OK    OK    OK  UNNEEDED, same version is already published

Summary

Package: genefu
Version: 2.25.1
Command: /Library/Frameworks/R.framework/Resources/bin/R CMD check --install=check:genefu.install-out.txt --library=/Library/Frameworks/R.framework/Resources/library --no-vignettes --timings genefu_2.25.1.tar.gz
StartedAt: 2021-10-20 04:00:33 -0400 (Wed, 20 Oct 2021)
EndedAt: 2021-10-20 04:04:29 -0400 (Wed, 20 Oct 2021)
EllapsedTime: 235.4 seconds
RetCode: 0
Status:   OK  
CheckDir: genefu.Rcheck
Warnings: 0

Command output

##############################################################################
##############################################################################
###
### Running command:
###
###   /Library/Frameworks/R.framework/Resources/bin/R CMD check --install=check:genefu.install-out.txt --library=/Library/Frameworks/R.framework/Resources/library --no-vignettes --timings genefu_2.25.1.tar.gz
###
##############################################################################
##############################################################################


* using log directory ‘/Users/biocbuild/bbs-3.14-bioc/meat/genefu.Rcheck’
* using R version 4.1.1 Patched (2021-08-22 r80813)
* using platform: x86_64-apple-darwin17.0 (64-bit)
* using session charset: UTF-8
* using option ‘--no-vignettes’
* checking for file ‘genefu/DESCRIPTION’ ... OK
* checking extension type ... Package
* this is package ‘genefu’ version ‘2.25.1’
* package encoding: UTF-8
* checking package namespace information ... OK
* checking package dependencies ... OK
* checking if this is a source package ... OK
* checking if there is a namespace ... OK
* checking for hidden files and directories ... OK
* checking for portable file names ... OK
* checking for sufficient/correct file permissions ... OK
* checking whether package ‘genefu’ can be installed ... OK
* checking installed package size ... NOTE
  installed size is  5.2Mb
  sub-directories of 1Mb or more:
    data   4.0Mb
* checking package directory ... OK
* checking ‘build’ directory ... OK
* checking DESCRIPTION meta-information ... OK
* checking top-level files ... OK
* checking for left-over files ... OK
* checking index information ... OK
* checking package subdirectories ... OK
* checking R files for non-ASCII characters ... OK
* checking R files for syntax errors ... OK
* checking whether the package can be loaded ... OK
* checking whether the package can be loaded with stated dependencies ... OK
* checking whether the package can be unloaded cleanly ... OK
* checking whether the namespace can be loaded with stated dependencies ... OK
* checking whether the namespace can be unloaded cleanly ... OK
* checking dependencies in R code ... NOTE
Packages in Depends field not imported from:
  ‘AIMS’ ‘biomaRt’ ‘iC10’
  These packages need to be imported from (in the NAMESPACE file)
  for when this namespace is loaded but not attached.
Unexported objects imported by ':::' calls:
  ‘mclust:::grid1’ ‘mclust:::grid2’
  See the note in ?`:::` about the use of this operator.
* checking S3 generic/method consistency ... OK
* checking replacement functions ... OK
* checking foreign function calls ... OK
* checking R code for possible problems ... OK
* checking Rd files ... OK
* checking Rd metadata ... OK
* checking Rd cross-references ... OK
* checking for missing documentation entries ... OK
* checking for code/documentation mismatches ... OK
* checking Rd \usage sections ... OK
* checking Rd contents ... OK
* checking for unstated dependencies in examples ... OK
* checking contents of ‘data’ directory ... OK
* checking data for non-ASCII characters ... OK
* checking data for ASCII and uncompressed saves ... OK
* checking files in ‘vignettes’ ... OK
* checking examples ... OK
* checking for unstated dependencies in vignettes ... OK
* checking package vignettes in ‘inst/doc’ ... OK
* checking running R code from vignettes ... SKIPPED
* checking re-building of vignette outputs ... SKIPPED
* checking PDF version of manual ... OK
* DONE

Status: 2 NOTEs
See
  ‘/Users/biocbuild/bbs-3.14-bioc/meat/genefu.Rcheck/00check.log’
for details.



Installation output

genefu.Rcheck/00install.out

##############################################################################
##############################################################################
###
### Running command:
###
###   /Library/Frameworks/R.framework/Resources/bin/R CMD INSTALL genefu
###
##############################################################################
##############################################################################


* installing to library ‘/Library/Frameworks/R.framework/Versions/4.1/Resources/library’
* installing *source* package ‘genefu’ ...
** using staged installation
** R
** data
** inst
** byte-compile and prepare package for lazy loading
** help
*** installing help indices
** building package indices
** installing vignettes
** testing if installed package can be loaded from temporary location
** testing if installed package can be loaded from final location
** testing if installed package keeps a record of temporary installation path
* DONE (genefu)

Tests output


Example timings

genefu.Rcheck/genefu-Ex.timings

nameusersystemelapsed
bimod0.3580.0150.371
boxplotplus20.0130.0010.014
claudinLow1.5600.0281.591
compareProtoCor1.2660.0151.282
compute.pairw.cor.meta1.7690.0261.797
compute.proto.cor.meta1.2580.0151.275
cordiff.dep0.1400.0020.144
endoPredict0.1420.0040.147
fuzzy.ttest0.2220.0180.241
gene700.3530.0080.362
gene760.1710.0060.178
geneid.map0.1700.0090.178
genius0.2620.0210.283
ggi0.1200.0040.124
ihc40.1340.0060.141
intrinsic.cluster0.5190.0160.514
intrinsic.cluster.predict0.2650.0070.274
map.datasets1.1330.0161.152
molecular.subtyping3.5270.1053.638
npi0.1050.0040.109
oncotypedx0.1210.0070.128
ovcAngiogenic0.1780.0210.199
ovcCrijns0.1720.0070.180
ovcTCGA0.3190.0070.326
ovcYoshihara0.1510.0070.160
pik3cags0.1600.0070.168
power.cor000
ps.cluster0.6000.0180.594
read.m.file0.0310.0020.034
rename.duplicate0.0020.0000.002
rescale0.3050.0070.312
rorS0.2480.0080.256
setcolclass.df0.0020.0000.002
sig.score0.1600.0070.167
spearmanCI000
st.gallen0.1120.0030.117
stab.fs0.0870.0030.090
stab.fs.ranking0.8380.0510.892
strescR0.0010.0000.001
subtype.cluster0.8060.0290.849
subtype.cluster.predict0.3490.0100.362
tamr130.1780.0060.185
tbrm0.0010.0000.001
weighted.meanvar0.0010.0000.001
write.m.file0.0050.0020.006