Name | Last modified | Size | Description | |
---|---|---|---|---|
Parent Directory | - | |||
buildsrc-summary.dcf | 14-Apr-2022 01:06 | 452 | ||
checksrc-summary.dcf | 14-Apr-2022 01:06 | 456 | ||
buildbin-summary.dcf | 14-Apr-2022 01:06 | 530 | ||
install-summary.dcf | 14-Apr-2022 01:06 | 625 | ||
buildsrc-out.txt | 14-Apr-2022 01:06 | 899 | ||
buildbin-out.txt | 14-Apr-2022 01:06 | 2.7K | ||
install-out.txt | 14-Apr-2022 01:06 | 3.5K | ||
checksrc-out.txt | 14-Apr-2022 01:06 | 4.9K | ||