Name | Last modified | Size | Description | |
---|---|---|---|---|
Parent Directory | - | |||
checksrc-summary.dcf | 14-Apr-2022 01:05 | 418 | ||
checksrc-out.txt | 14-Apr-2022 01:05 | 4.1K | ||
buildsrc-summary.dcf | 14-Apr-2022 01:05 | 412 | ||
buildsrc-out.txt | 14-Apr-2022 01:05 | 864 | ||
install-summary.dcf | 14-Apr-2022 01:05 | 256 | ||
install-out.txt | 14-Apr-2022 01:05 | 952 | ||