Name | Last modified | Size | Description | |
---|---|---|---|---|
Parent Directory | - | |||
checksrc-out.txt | 14-Apr-2022 01:08 | 4.2K | ||
buildbin-out.txt | 14-Apr-2022 01:08 | 1.1K | ||
install-out.txt | 14-Apr-2022 01:08 | 1.0K | ||
buildsrc-out.txt | 14-Apr-2022 01:08 | 874 | ||
buildbin-summary.dcf | 14-Apr-2022 01:08 | 521 | ||
checksrc-summary.dcf | 14-Apr-2022 01:08 | 438 | ||
buildsrc-summary.dcf | 14-Apr-2022 01:08 | 422 | ||
install-summary.dcf | 14-Apr-2022 01:08 | 266 | ||