Name | Last modified | Size | Description | |
---|---|---|---|---|
Parent Directory | - | |||
buildbin-out.txt | 14-Apr-2022 01:06 | 149K | ||
buildbin-summary.dcf | 14-Apr-2022 01:06 | 572 | ||
buildsrc-out.txt | 14-Apr-2022 01:06 | 1.3K | ||
buildsrc-summary.dcf | 14-Apr-2022 01:06 | 481 | ||
checksrc-out.txt | 14-Apr-2022 01:06 | 17K | ||
checksrc-summary.dcf | 14-Apr-2022 01:06 | 490 | ||
install-out.txt | 14-Apr-2022 01:06 | 150K | ||
install-summary.dcf | 14-Apr-2022 01:06 | 689 | ||