Name | Last modified | Size | Description | |
---|---|---|---|---|
Parent Directory | - | |||
buildsrc-out.txt | 14-Apr-2022 01:05 | 1.2K | ||
buildsrc-summary.dcf | 14-Apr-2022 01:05 | 433 | ||
checksrc-out.txt | 14-Apr-2022 01:05 | 16K | ||
checksrc-summary.dcf | 14-Apr-2022 01:05 | 452 | ||
install-out.txt | 14-Apr-2022 01:05 | 69K | ||
install-summary.dcf | 14-Apr-2022 01:05 | 271 | ||