Name | Last modified | Size | Description | |
---|---|---|---|---|
Parent Directory | - | |||
install-out.txt | 14-Apr-2022 01:06 | 2.4K | ||
install-summary.dcf | 14-Apr-2022 01:06 | 631 | ||
buildsrc-out.txt | 14-Apr-2022 01:06 | 900 | ||
buildsrc-summary.dcf | 14-Apr-2022 01:06 | 455 | ||
checksrc-out.txt | 14-Apr-2022 01:06 | 5.9K | ||
checksrc-summary.dcf | 14-Apr-2022 01:06 | 458 | ||
buildbin-summary.dcf | 14-Apr-2022 01:06 | 533 | ||
buildbin-out.txt | 14-Apr-2022 01:06 | 1.6K | ||