Name | Last modified | Size | Description | |
---|---|---|---|---|
Parent Directory | - | |||
install-summary.dcf | 14-Apr-2022 01:06 | 658 | ||
install-out.txt | 14-Apr-2022 01:06 | 2.2K | ||
checksrc-summary.dcf | 14-Apr-2022 01:06 | 476 | ||
checksrc-out.txt | 14-Apr-2022 01:06 | 8.4K | ||
buildsrc-summary.dcf | 14-Apr-2022 01:06 | 466 | ||
buildsrc-out.txt | 14-Apr-2022 01:06 | 915 | ||
buildbin-summary.dcf | 14-Apr-2022 01:06 | 551 | ||
buildbin-out.txt | 14-Apr-2022 01:06 | 1.4K | ||