Name | Last modified | Size | Description | |
---|---|---|---|---|
Parent Directory | - | |||
buildbin-out.txt | 14-Apr-2022 01:06 | 1.5K | ||
buildbin-summary.dcf | 14-Apr-2022 01:06 | 533 | ||
buildsrc-out.txt | 14-Apr-2022 01:06 | 900 | ||
buildsrc-summary.dcf | 14-Apr-2022 01:06 | 454 | ||
checksrc-out.txt | 14-Apr-2022 01:06 | 3.7K | ||
checksrc-summary.dcf | 14-Apr-2022 01:06 | 457 | ||
install-out.txt | 14-Apr-2022 01:06 | 2.1K | ||
install-summary.dcf | 14-Apr-2022 01:06 | 631 | ||