Name | Last modified | Size | Description | |
---|---|---|---|---|
Parent Directory | - | |||
install-out.txt | 14-Apr-2022 01:05 | 955 | ||
install-summary.dcf | 14-Apr-2022 01:05 | 258 | ||
buildsrc-out.txt | 14-Apr-2022 01:05 | 869 | ||
buildsrc-summary.dcf | 14-Apr-2022 01:05 | 417 | ||
checksrc-summary.dcf | 14-Apr-2022 01:05 | 423 | ||
checksrc-out.txt | 14-Apr-2022 01:05 | 8.1K | ||