Back to Multiple platform build/check report for BioC 3.14
ABCDE[F]GHIJKLMNOPQRSTUVWXYZ

This page was generated on 2021-11-24 15:04:32 -0500 (Wed, 24 Nov 2021).

All results for package fishpond

To the developers/maintainers of the fishpond package:
- Please allow up to 24 hours (and sometimes 48 hours) for your latest push to git@git.bioconductor.org:packages/fishpond.git to
reflect on this report. See How and When does the builder pull? When will my changes propagate? here for more information.
- Make sure to use the following settings in order to reproduce any error or warning you see on this page.

raw results

Package 645/2083HostnameOS / ArchINSTALLBUILDCHECKBUILD BIN
fishpond 2.0.0  (landing page)
Michael Love
Snapshot Date: 2021-11-23 04:15:06 -0500 (Tue, 23 Nov 2021)
git_url: https://git.bioconductor.org/packages/fishpond
git_branch: RELEASE_3_14
git_last_commit: ddccf67
git_last_commit_date: 2021-10-26 12:49:38 -0500 (Tue, 26 Oct 2021)
nebbiolo2Linux (Ubuntu 20.04.3 LTS) / x86_64  OK    OK    OK  UNNEEDED, same version is already published
tokay2Windows Server 2012 R2 Standard / x64  OK    OK    OK    OK  UNNEEDED, same version is already published
machv2macOS 10.14.6 Mojave / x86_64  OK    OK    OK    OK  UNNEEDED, same version is already published

Results for Bioconductor software packages that depend directly on package fishpond

QUICK STATSOS / ArchINSTALLBUILDCHECKBUILD BIN
nebbiolo2Linux (Ubuntu 20.04.3 LTS) / x86_64
001
001
0001
tokay2Windows Server 2012 R2 Standard / x64
001
001
0100
001
machv2macOS 10.14.6 Mojave / x86_64
001
001
0001
001
Package 1/1HostnameOS / ArchINSTALLBUILDCHECKBUILD BIN
singleCellTK 2.4.0  (landing page)
Yichen Wang
git_last_commit: 91f98fc
git_last_commit_date: 2021-10-27 11:24:49 -0500
nebbiolo2Linux (Ubuntu 20.04.3 LTS) / x86_64  OK    OK    OK  UNNEEDED, same version is already published
tokay2Windows Server 2012 R2 Standard / x64  OK    OK    ERROR    OK  
machv2macOS 10.14.6 Mojave / x86_64  OK    OK    OK    OK  UNNEEDED, same version is already published