Name | Last modified | Size | Description | |
---|---|---|---|---|
Parent Directory | - | |||
buildbin-out.txt | 14-Apr-2022 01:06 | 1.6K | ||
buildbin-summary.dcf | 14-Apr-2022 01:06 | 522 | ||
buildsrc-out.txt | 14-Apr-2022 01:06 | 923 | ||
buildsrc-summary.dcf | 14-Apr-2022 01:06 | 445 | ||
checksrc-out.txt | 14-Apr-2022 01:06 | 4.7K | ||
checksrc-summary.dcf | 14-Apr-2022 01:06 | 450 | ||
install-out.txt | 14-Apr-2022 01:06 | 5.5K | ||
install-summary.dcf | 14-Apr-2022 01:06 | 614 | ||