Name | Last modified | Size | Description | |
---|---|---|---|---|
Parent Directory | - | |||
install-out.txt | 14-Apr-2022 01:06 | 2.5K | ||
install-summary.dcf | 14-Apr-2022 01:06 | 641 | ||
buildsrc-out.txt | 14-Apr-2022 01:06 | 905 | ||
buildsrc-summary.dcf | 14-Apr-2022 01:06 | 459 | ||
checksrc-out.txt | 14-Apr-2022 01:06 | 3.9K | ||
checksrc-summary.dcf | 14-Apr-2022 01:06 | 462 | ||
buildbin-out.txt | 14-Apr-2022 01:06 | 1.8K | ||
buildbin-summary.dcf | 14-Apr-2022 01:06 | 540 | ||