Name | Last modified | Size | Description | |
---|---|---|---|---|
Parent Directory | - | |||
checksrc-out.txt | 14-Apr-2022 01:06 | 4.5K | ||
install-out.txt | 14-Apr-2022 01:06 | 4.1K | ||
buildbin-out.txt | 14-Apr-2022 01:06 | 3.3K | ||
buildsrc-out.txt | 14-Apr-2022 01:06 | 887 | ||
install-summary.dcf | 14-Apr-2022 01:06 | 649 | ||
buildbin-summary.dcf | 14-Apr-2022 01:06 | 545 | ||
checksrc-summary.dcf | 14-Apr-2022 01:06 | 466 | ||
buildsrc-summary.dcf | 14-Apr-2022 01:06 | 463 | ||