Name | Last modified | Size | Description | |
---|---|---|---|---|
Parent Directory | - | |||
buildbin-out.txt | 14-Apr-2022 01:06 | 307K | ||
buildbin-summary.dcf | 14-Apr-2022 01:06 | 621 | ||
buildsrc-out.txt | 14-Apr-2022 01:06 | 1.0K | ||
buildsrc-summary.dcf | 14-Apr-2022 01:06 | 514 | ||
checksrc-out.txt | 14-Apr-2022 01:06 | 6.1K | ||
checksrc-summary.dcf | 14-Apr-2022 01:06 | 517 | ||
install-out.txt | 14-Apr-2022 01:06 | 308K | ||
install-summary.dcf | 14-Apr-2022 01:06 | 761 | ||