Name | Last modified | Size | Description | |
---|---|---|---|---|
Parent Directory | - | |||
buildbin-out.txt | 14-Apr-2022 01:07 | 291K | ||
buildbin-summary.dcf | 14-Apr-2022 01:07 | 612 | ||
buildsrc-out.txt | 14-Apr-2022 01:07 | 964 | ||
buildsrc-summary.dcf | 14-Apr-2022 01:07 | 469 | ||
checksrc-out.txt | 14-Apr-2022 01:07 | 5.0K | ||
checksrc-summary.dcf | 14-Apr-2022 01:07 | 499 | ||
install-out.txt | 14-Apr-2022 01:07 | 289K | ||
install-summary.dcf | 14-Apr-2022 01:07 | 297 | ||