Name | Last modified | Size | Description | |
---|---|---|---|---|
Parent Directory | - | |||
install-out.txt | 14-Apr-2022 01:06 | 3.6K | ||
install-summary.dcf | 14-Apr-2022 01:06 | 614 | ||
buildsrc-out.txt | 14-Apr-2022 01:06 | 1.0K | ||
buildsrc-summary.dcf | 14-Apr-2022 01:06 | 447 | ||
checksrc-out.txt | 14-Apr-2022 01:06 | 6.8K | ||
checksrc-summary.dcf | 14-Apr-2022 01:06 | 456 | ||
buildbin-out.txt | 14-Apr-2022 01:06 | 2.7K | ||
buildbin-summary.dcf | 14-Apr-2022 01:06 | 521 | ||