Name | Last modified | Size | Description | |
---|---|---|---|---|
Parent Directory | - | |||
checksrc-out.txt | 14-Apr-2022 01:07 | 6.3K | ||
buildbin-out.txt | 14-Apr-2022 01:07 | 1.2K | ||
install-out.txt | 14-Apr-2022 01:07 | 1.0K | ||
buildsrc-out.txt | 14-Apr-2022 01:07 | 961 | ||
buildbin-summary.dcf | 14-Apr-2022 01:07 | 512 | ||
checksrc-summary.dcf | 14-Apr-2022 01:07 | 438 | ||
buildsrc-summary.dcf | 14-Apr-2022 01:07 | 419 | ||
install-summary.dcf | 14-Apr-2022 01:07 | 263 | ||