Name | Last modified | Size | Description | |
---|---|---|---|---|
Parent Directory | - | |||
buildbin-out.txt | 14-Apr-2022 01:06 | 4.9K | ||
buildbin-summary.dcf | 14-Apr-2022 01:06 | 519 | ||
buildsrc-out.txt | 14-Apr-2022 01:06 | 862 | ||
buildsrc-summary.dcf | 14-Apr-2022 01:06 | 446 | ||
checksrc-out.txt | 14-Apr-2022 01:06 | 6.5K | ||
checksrc-summary.dcf | 14-Apr-2022 01:06 | 456 | ||
install-out.txt | 14-Apr-2022 01:06 | 5.6K | ||
install-summary.dcf | 14-Apr-2022 01:06 | 613 | ||