Index of /checkResults/3.14/bioc-LATEST/dupRadar/raw-results

[ICO]NameLast modifiedSizeDescription

[DIR]Parent Directory  -  
[   ]info.dcf22-Oct-2021 01:05 311  
[DIR]merida1/22-Oct-2021 01:05 -  
[DIR]nebbiolo2/22-Oct-2021 01:04 -