Back to Multiple platform build/check report for BioC 3.14
ABC[D]EFGHIJKLMNOPQRSTUVWXYZ

This page was generated on 2021-10-21 12:05:17 -0400 (Thu, 21 Oct 2021).

BUILD results for dupRadar on merida1

To the developers/maintainers of the dupRadar package:
- Please allow up to 24 hours (and sometimes 48 hours) for your latest push to git@git.bioconductor.org:packages/dupRadar.git to
reflect on this report. See How and When does the builder pull? When will my changes propagate? here for more information.
- Make sure to use the following settings in order to reproduce any error or warning you see on this page.

raw results

Package 548/2075HostnameOS / ArchINSTALLBUILDCHECKBUILD BIN
dupRadar 1.23.0  (landing page)
Sergi Sayols , Holger Klein
Snapshot Date: 2021-10-20 14:50:05 -0400 (Wed, 20 Oct 2021)
git_url: https://git.bioconductor.org/packages/dupRadar
git_branch: master
git_last_commit: ee87138
git_last_commit_date: 2021-05-19 12:15:40 -0400 (Wed, 19 May 2021)
nebbiolo2Linux (Ubuntu 20.04.2 LTS) / x86_64  OK    OK    OK  UNNEEDED, same version is already published
riesling1Windows Server 2019 Standard / x64... NOT SUPPORTED ...
merida1macOS 10.14.6 Mojave / x86_64  OK    OK    OK    OK  UNNEEDED, same version is already published

Summary

Package: dupRadar
Version: 1.23.0
Command: /Library/Frameworks/R.framework/Resources/bin/R CMD build --keep-empty-dirs --no-resave-data dupRadar
StartedAt: 2021-10-20 19:45:47 -0400 (Wed, 20 Oct 2021)
EndedAt: 2021-10-20 19:46:47 -0400 (Wed, 20 Oct 2021)
EllapsedTime: 60.0 seconds
RetCode: 0
Status:   OK  
PackageFile: dupRadar_1.23.0.tar.gz
PackageFileSize: 8.632 MiB

Command output

##############################################################################
##############################################################################
###
### Running command:
###
###   /Library/Frameworks/R.framework/Resources/bin/R CMD build --keep-empty-dirs --no-resave-data dupRadar
###
##############################################################################
##############################################################################


* checking for file ‘dupRadar/DESCRIPTION’ ... OK
* preparing ‘dupRadar’:
* checking DESCRIPTION meta-information ... OK
* installing the package to build vignettes
* creating vignettes ... OK
* checking for LF line-endings in source and make files and shell scripts
* checking for empty or unneeded directories
  NB: this package now depends on R (>= 3.5.0)
  WARNING: Added dependency on R >= 3.5.0 because serialized objects in
  serialize/load version 3 cannot be read in older versions of R.
  File(s) containing such objects:
    ‘dupRadar/vignettes/dupRadar_cache/html/citation_0f8e18a7e3f44f6d4183cee6c34cce6a.RData’
    ‘dupRadar/vignettes/dupRadar_cache/html/citation_0f8e18a7e3f44f6d4183cee6c34cce6a.rdx’
    ‘dupRadar/vignettes/dupRadar_cache/html/loadLibrary_f1a4a1d0a9af941c62fd0d314715701d.RData’
    ‘dupRadar/vignettes/dupRadar_cache/html/loadLibrary_f1a4a1d0a9af941c62fd0d314715701d.rdx’
    ‘dupRadar/vignettes/dupRadar_cache/html/style_72ddba1eff34a1521298732c36a84164.RData’
    ‘dupRadar/vignettes/dupRadar_cache/html/style_72ddba1eff34a1521298732c36a84164.rdx’
    ‘dupRadar/vignettes/dupRadar_cache/html/unnamed-chunk-10_19deaac7c653ad3b9a187857cfa44406.RData’
    ‘dupRadar/vignettes/dupRadar_cache/html/unnamed-chunk-10_19deaac7c653ad3b9a187857cfa44406.rdx’
    ‘dupRadar/vignettes/dupRadar_cache/html/unnamed-chunk-11_526e8e4186ebb05f33a4e11619dd0942.RData’
    ‘dupRadar/vignettes/dupRadar_cache/html/unnamed-chunk-11_526e8e4186ebb05f33a4e11619dd0942.rdx’
    ‘dupRadar/vignettes/dupRadar_cache/html/unnamed-chunk-12_48069d8081948d6b73303736fb48dcef.RData’
    ‘dupRadar/vignettes/dupRadar_cache/html/unnamed-chunk-12_48069d8081948d6b73303736fb48dcef.rdx’
    ‘dupRadar/vignettes/dupRadar_cache/html/unnamed-chunk-13_9d7691ef0b8f1bea937f250aafe352fb.RData’
    ‘dupRadar/vignettes/dupRadar_cache/html/unnamed-chunk-13_9d7691ef0b8f1bea937f250aafe352fb.rdx’
    ‘dupRadar/vignettes/dupRadar_cache/html/unnamed-chunk-14_fc9a08025f6f96568cb3e786300f6f0a.RData’
    ‘dupRadar/vignettes/dupRadar_cache/html/unnamed-chunk-14_fc9a08025f6f96568cb3e786300f6f0a.rdx’
    ‘dupRadar/vignettes/dupRadar_cache/html/unnamed-chunk-15_b1af79e4ec63dd65d8fef79017ad0701.RData’
    ‘dupRadar/vignettes/dupRadar_cache/html/unnamed-chunk-15_b1af79e4ec63dd65d8fef79017ad0701.rdx’
    ‘dupRadar/vignettes/dupRadar_cache/html/unnamed-chunk-16_f321b4fa17275f52a8fd94ebbdeac167.RData’
    ‘dupRadar/vignettes/dupRadar_cache/html/unnamed-chunk-16_f321b4fa17275f52a8fd94ebbdeac167.rdx’
    ‘dupRadar/vignettes/dupRadar_cache/html/unnamed-chunk-17_fee1266ed066f8f872fa87fb91e2fefb.RData’
    ‘dupRadar/vignettes/dupRadar_cache/html/unnamed-chunk-17_fee1266ed066f8f872fa87fb91e2fefb.rdx’
    ‘dupRadar/vignettes/dupRadar_cache/html/unnamed-chunk-18_61c3f26c0a238db4be25693b3e2fdfe5.RData’
    ‘dupRadar/vignettes/dupRadar_cache/html/unnamed-chunk-18_61c3f26c0a238db4be25693b3e2fdfe5.rdx’
    ‘dupRadar/vignettes/dupRadar_cache/html/unnamed-chunk-1_39ac936609e271d256f1b05a22054ec5.RData’
    ‘dupRadar/vignettes/dupRadar_cache/html/unnamed-chunk-1_39ac936609e271d256f1b05a22054ec5.rdx’
    ‘dupRadar/vignettes/dupRadar_cache/html/unnamed-chunk-2_cf23d6e96a7c22cd6eb0ea16defeb942.RData’
    ‘dupRadar/vignettes/dupRadar_cache/html/unnamed-chunk-2_cf23d6e96a7c22cd6eb0ea16defeb942.rdx’
    ‘dupRadar/vignettes/dupRadar_cache/html/unnamed-chunk-3_dd90d4527900a0bd01258cfe0532ee43.RData’
    ‘dupRadar/vignettes/dupRadar_cache/html/unnamed-chunk-3_dd90d4527900a0bd01258cfe0532ee43.rdx’
    ‘dupRadar/vignettes/dupRadar_cache/html/unnamed-chunk-4_22d4034934e8ecce92d5cf89a314adc6.RData’
    ‘dupRadar/vignettes/dupRadar_cache/html/unnamed-chunk-4_22d4034934e8ecce92d5cf89a314adc6.rdx’
    ‘dupRadar/vignettes/dupRadar_cache/html/unnamed-chunk-5_2205e08017582e5a826759f2f2b0d603.RData’
    ‘dupRadar/vignettes/dupRadar_cache/html/unnamed-chunk-5_2205e08017582e5a826759f2f2b0d603.rdx’
    ‘dupRadar/vignettes/dupRadar_cache/html/unnamed-chunk-6_57a6ef9453e47ba781aa3395d80b1102.RData’
    ‘dupRadar/vignettes/dupRadar_cache/html/unnamed-chunk-6_57a6ef9453e47ba781aa3395d80b1102.rdx’
    ‘dupRadar/vignettes/dupRadar_cache/html/unnamed-chunk-7_090d03b5ac850162eee19a5c4feec455.RData’
    ‘dupRadar/vignettes/dupRadar_cache/html/unnamed-chunk-7_090d03b5ac850162eee19a5c4feec455.rdx’
    ‘dupRadar/vignettes/dupRadar_cache/html/unnamed-chunk-8_3cfb669461f64c589cd71e163a635492.RData’
    ‘dupRadar/vignettes/dupRadar_cache/html/unnamed-chunk-8_3cfb669461f64c589cd71e163a635492.rdx’
    ‘dupRadar/vignettes/dupRadar_cache/html/unnamed-chunk-9_01ef8eafd741145f7ff43849cab07619.RData’
    ‘dupRadar/vignettes/dupRadar_cache/html/unnamed-chunk-9_01ef8eafd741145f7ff43849cab07619.rdx’
* building ‘dupRadar_1.23.0.tar.gz’