Name | Last modified | Size | Description | |
---|---|---|---|---|
Parent Directory | - | |||
buildbin-out.txt | 14-Apr-2022 01:06 | 2.2K | ||
buildbin-summary.dcf | 14-Apr-2022 01:06 | 625 | ||
buildsrc-out.txt | 14-Apr-2022 01:06 | 952 | ||
buildsrc-summary.dcf | 14-Apr-2022 01:06 | 518 | ||
checksrc-out.txt | 14-Apr-2022 01:06 | 4.2K | ||
checksrc-summary.dcf | 14-Apr-2022 01:06 | 520 | ||
install-out.txt | 14-Apr-2022 01:06 | 3.0K | ||
install-summary.dcf | 14-Apr-2022 01:06 | 770 | ||