Name | Last modified | Size | Description | |
---|---|---|---|---|
Parent Directory | - | |||
install-out.txt | 14-Apr-2022 01:06 | 152K | ||
buildbin-out.txt | 14-Apr-2022 01:06 | 151K | ||
checksrc-out.txt | 14-Apr-2022 01:06 | 5.1K | ||
buildsrc-out.txt | 14-Apr-2022 01:06 | 1.1K | ||
install-summary.dcf | 14-Apr-2022 01:06 | 636 | ||
buildbin-summary.dcf | 14-Apr-2022 01:06 | 537 | ||
checksrc-summary.dcf | 14-Apr-2022 01:06 | 460 | ||
buildsrc-summary.dcf | 14-Apr-2022 01:06 | 456 | ||