Name | Last modified | Size | Description | |
---|---|---|---|---|
Parent Directory | - | |||
buildbin-out.txt | 14-Apr-2022 01:07 | 30K | ||
install-out.txt | 14-Apr-2022 01:07 | 29K | ||
checksrc-out.txt | 14-Apr-2022 01:07 | 3.7K | ||
buildsrc-out.txt | 14-Apr-2022 01:07 | 893 | ||
buildbin-summary.dcf | 14-Apr-2022 01:07 | 528 | ||
checksrc-summary.dcf | 14-Apr-2022 01:07 | 441 | ||
buildsrc-summary.dcf | 14-Apr-2022 01:07 | 426 | ||
install-summary.dcf | 14-Apr-2022 01:07 | 269 | ||