Name | Last modified | Size | Description | |
---|---|---|---|---|
Parent Directory | - | |||
checksrc-summary.dcf | 14-Apr-2022 01:05 | 416 | ||
checksrc-out.txt | 14-Apr-2022 01:05 | 3.2K | ||
buildsrc-summary.dcf | 14-Apr-2022 01:05 | 411 | ||
buildsrc-out.txt | 14-Apr-2022 01:05 | 828 | ||
install-summary.dcf | 14-Apr-2022 01:05 | 255 | ||
install-out.txt | 14-Apr-2022 01:05 | 4.4K | ||