Name | Last modified | Size | Description | |
---|---|---|---|---|
Parent Directory | - | |||
checksrc-out.txt | 14-Apr-2022 01:07 | 4.5K | ||
buildbin-out.txt | 14-Apr-2022 01:07 | 1.1K | ||
install-out.txt | 14-Apr-2022 01:07 | 1.0K | ||
buildsrc-out.txt | 14-Apr-2022 01:07 | 800 | ||
buildbin-summary.dcf | 14-Apr-2022 01:07 | 505 | ||
checksrc-summary.dcf | 14-Apr-2022 01:07 | 427 | ||
buildsrc-summary.dcf | 14-Apr-2022 01:07 | 414 | ||
install-summary.dcf | 14-Apr-2022 01:07 | 261 | ||