Name | Last modified | Size | Description | |
---|---|---|---|---|
Parent Directory | - | |||
install-out.txt | 14-Apr-2022 01:06 | 6.7K | ||
install-summary.dcf | 14-Apr-2022 01:06 | 623 | ||
buildsrc-out.txt | 14-Apr-2022 01:06 | 927 | ||
buildsrc-summary.dcf | 14-Apr-2022 01:06 | 451 | ||
checksrc-out.txt | 14-Apr-2022 01:06 | 6.3K | ||
checksrc-summary.dcf | 14-Apr-2022 01:06 | 455 | ||
buildbin-out.txt | 14-Apr-2022 01:06 | 5.9K | ||
buildbin-summary.dcf | 14-Apr-2022 01:06 | 527 | ||