![]() | Name | Last modified | Size | Description |
---|---|---|---|---|
![]() | Parent Directory | - | ||
![]() | install-summary.dcf | 14-Apr-2022 01:06 | 703 | |
![]() | install-out.txt | 14-Apr-2022 01:06 | 2.5K | |
![]() | buildsrc-out.txt | 14-Apr-2022 01:06 | 917 | |
![]() | buildsrc-summary.dcf | 14-Apr-2022 01:06 | 486 | |
![]() | checksrc-out.txt | 14-Apr-2022 01:06 | 4.1K | |
![]() | checksrc-summary.dcf | 14-Apr-2022 01:06 | 490 | |
![]() | buildbin-out.txt | 14-Apr-2022 01:06 | 1.8K | |
![]() | buildbin-summary.dcf | 14-Apr-2022 01:06 | 581 | |