Name | Last modified | Size | Description | |
---|---|---|---|---|
Parent Directory | - | |||
install-summary.dcf | 14-Apr-2022 01:05 | 273 | ||
buildsrc-summary.dcf | 14-Apr-2022 01:05 | 438 | ||
checksrc-summary.dcf | 14-Apr-2022 01:05 | 452 | ||
buildsrc-out.txt | 14-Apr-2022 01:05 | 874 | ||
install-out.txt | 14-Apr-2022 01:05 | 968 | ||
checksrc-out.txt | 14-Apr-2022 01:05 | 3.5K | ||