![]() | Name | Last modified | Size | Description |
---|---|---|---|---|
![]() | Parent Directory | - | ||
![]() | install-summary.dcf | 14-Apr-2022 01:07 | 283 | |
![]() | buildsrc-summary.dcf | 14-Apr-2022 01:07 | 448 | |
![]() | checksrc-summary.dcf | 14-Apr-2022 01:07 | 472 | |
![]() | buildbin-summary.dcf | 14-Apr-2022 01:07 | 572 | |
![]() | buildsrc-out.txt | 14-Apr-2022 01:07 | 884 | |
![]() | install-out.txt | 14-Apr-2022 01:07 | 1.0K | |
![]() | buildbin-out.txt | 14-Apr-2022 01:07 | 1.2K | |
![]() | checksrc-out.txt | 14-Apr-2022 01:07 | 3.5K | |