Name | Last modified | Size | Description | |
---|---|---|---|---|
Parent Directory | - | |||
buildbin-summary.dcf | 14-Apr-2022 01:06 | 536 | ||
buildbin-out.txt | 14-Apr-2022 01:06 | 2.6K | ||
checksrc-summary.dcf | 14-Apr-2022 01:06 | 460 | ||
checksrc-out.txt | 14-Apr-2022 01:06 | 4.3K | ||
buildsrc-summary.dcf | 14-Apr-2022 01:06 | 456 | ||
buildsrc-out.txt | 14-Apr-2022 01:06 | 904 | ||
install-summary.dcf | 14-Apr-2022 01:06 | 634 | ||
install-out.txt | 14-Apr-2022 01:06 | 3.4K | ||