Name | Last modified | Size | Description | |
---|---|---|---|---|
Parent Directory | - | |||
buildbin-out.txt | 14-Apr-2022 01:06 | 2.8K | ||
buildbin-summary.dcf | 14-Apr-2022 01:06 | 587 | ||
buildsrc-out.txt | 14-Apr-2022 01:06 | 945 | ||
buildsrc-summary.dcf | 14-Apr-2022 01:06 | 491 | ||
checksrc-out.txt | 14-Apr-2022 01:06 | 3.7K | ||
checksrc-summary.dcf | 14-Apr-2022 01:06 | 494 | ||
install-out.txt | 14-Apr-2022 01:06 | 3.4K | ||
install-summary.dcf | 14-Apr-2022 01:06 | 712 | ||