Name | Last modified | Size | Description | |
---|---|---|---|---|
Parent Directory | - | |||
buildbin-out.txt | 14-Apr-2022 01:07 | 1.2K | ||
buildbin-summary.dcf | 14-Apr-2022 01:07 | 578 | ||
buildsrc-out.txt | 14-Apr-2022 01:07 | 911 | ||
buildsrc-summary.dcf | 14-Apr-2022 01:07 | 452 | ||
checksrc-out.txt | 14-Apr-2022 01:07 | 3.2K | ||
checksrc-summary.dcf | 14-Apr-2022 01:07 | 476 | ||
install-out.txt | 14-Apr-2022 01:07 | 1.0K | ||
install-summary.dcf | 14-Apr-2022 01:07 | 285 | ||