Name | Last modified | Size | Description | |
---|---|---|---|---|
Parent Directory | - | |||
buildsrc-out.txt | 14-Apr-2022 01:05 | 15K | ||
buildsrc-summary.dcf | 14-Apr-2022 01:05 | 338 | ||
checksrc-out.txt | 12-Apr-2022 01:04 | 4.3K | ||
checksrc-summary.dcf | 12-Apr-2022 01:04 | 432 | ||
install-out.txt | 14-Apr-2022 01:05 | 2.0K | ||
install-summary.dcf | 14-Apr-2022 01:05 | 263 | ||