Name | Last modified | Size | Description | |
---|---|---|---|---|
Parent Directory | - | |||
install-summary.dcf | 14-Apr-2022 01:06 | 689 | ||
install-out.txt | 14-Apr-2022 01:06 | 8.8K | ||
checksrc-summary.dcf | 14-Apr-2022 01:06 | 484 | ||
checksrc-out.txt | 14-Apr-2022 01:06 | 3.8K | ||
buildsrc-summary.dcf | 14-Apr-2022 01:06 | 481 | ||
buildsrc-out.txt | 14-Apr-2022 01:06 | 934 | ||
buildbin-summary.dcf | 14-Apr-2022 01:06 | 572 | ||
buildbin-out.txt | 14-Apr-2022 01:06 | 8.1K | ||