Name | Last modified | Size | Description | |
---|---|---|---|---|
Parent Directory | - | |||
checksrc-out.txt | 14-Apr-2022 01:06 | 4.1K | ||
install-out.txt | 14-Apr-2022 01:06 | 3.4K | ||
buildbin-out.txt | 14-Apr-2022 01:06 | 2.6K | ||
buildsrc-out.txt | 14-Apr-2022 01:06 | 925 | ||
install-summary.dcf | 14-Apr-2022 01:06 | 676 | ||
buildbin-summary.dcf | 14-Apr-2022 01:06 | 562 | ||
checksrc-summary.dcf | 14-Apr-2022 01:06 | 478 | ||
buildsrc-summary.dcf | 14-Apr-2022 01:06 | 475 | ||