Name | Last modified | Size | Description | |
---|---|---|---|---|
Parent Directory | - | |||
checksrc-out.txt | 14-Apr-2022 01:07 | 4.1K | ||
buildbin-out.txt | 14-Apr-2022 01:07 | 1.0K | ||
buildsrc-out.txt | 14-Apr-2022 01:07 | 867 | ||
install-out.txt | 14-Apr-2022 01:07 | 849 | ||
buildbin-summary.dcf | 14-Apr-2022 01:07 | 545 | ||
checksrc-summary.dcf | 14-Apr-2022 01:07 | 460 | ||
buildsrc-summary.dcf | 14-Apr-2022 01:07 | 434 | ||
install-summary.dcf | 14-Apr-2022 01:07 | 274 | ||